Workbook

Sheet rendicontazione
C2: ENTE: | F2: assoc 1 | J2: ENTE: | K2: =$D$2 -> 0 | N2: ENTE: | O2: =$D$2 -> 0 | R2: ENTE: | S2: =$D$2 -> 0
C3: Fascia di età accolta: | J3: Fascia di età: | K3: =$D$3 -> 0 | N3: Fascia di età: | O3: =$D$3 -> 0 | R3: Fascia di età: | S3: =$D$3 -> 0
J6: ore giornaliere | N6: ore giornaliere | R6: ore giornaliere
J7: giorni a settimana | L7: menù a tendina | N7: giorni a settimana | P7: menù a tendina | R7: giorni a settimana | T7: menù a tendina
J8: TOT hh/settim | K8: =K6*K7 -> 0 | N8: TOT hh/settim | O8: =O6*O7 -> 0 | R8: TOT hh/settim | S8: =S6*S7 -> 0
C10: numero bambini accolti | J10: numero bambini | N10: numero bambini | R10: numero bambini
C11: 1 settimana | E11: numero ore/bambino | F11: =M11+Q11+U11 -> 0 | J11: 1 settimana | L11: hh/bamb | M11: =$K$8*K11 -> 0 | N11: 1 settimana | P11: hh/bamb | Q11: =$O$8*O11 -> 0 | R11: 1 settimana | T11: hh/bamb | U11: =$S$8*S11 -> 0
C12: 2 settimana | E12: numero ore/bambino | F12: =M12+Q12+U12 -> 0 | G12: somma di più schede → | J12: 2 settimana | L12: hh/bamb | M12: =$K$8*K12 -> 0 | N12: 2 settimana | P12: hh/bamb | Q12: =$O$8*O12 -> 0 | R12: 2 settimana | T12: hh/bamb | U12: =$S$8*S12 -> 0
C13: 3 settimana | E13: numero ore/bambino | F13: =M13+Q13+U13 -> 0 | J13: 3 settimana | L13: hh/bamb | M13: =$K$8*K13 -> 0 | N13: 3 settimana | P13: hh/bamb | Q13: =$O$8*O13 -> 0 | R13: 3 settimana | T13: hh/bamb | U13: =$S$8*S13 -> 0
C14: 4 settimana | E14: numero ore/bambino | F14: =M14+Q14+U14 -> 0 | J14: 4 settimana | L14: hh/bamb | M14: =$K$8*K14 -> 0 | N14: 4 settimana | P14: hh/bamb | Q14: =$O$8*O14 -> 0 | R14: 4 settimana | T14: hh/bamb | U14: =$S$8*S14 -> 0
C15: 5 settimana | E15: numero ore/bambino | F15: =M15+Q15+U15 -> 0 | J15: 5 settimana | L15: hh/bamb | M15: =$K$8*K15 -> 0 | N15: 5 settimana | P15: hh/bamb | Q15: =$O$8*O15 -> 0 | R15: 5 settimana | T15: hh/bamb | U15: =$S$8*S15 -> 0
C16: 6 settimana | E16: numero ore/bambino | F16: =M16+Q16+U16 -> 0 | J16: 6 settimana | L16: hh/bamb | M16: =$K$8*K16 -> 0 | N16: 6 settimana | P16: hh/bamb | Q16: =$O$8*O16 -> 0 | R16: 6 settimana | T16: hh/bamb | U16: =$S$8*S16 -> 0
C17: 7 settimana | E17: numero ore/bambino | F17: =M17+Q17+U17 -> 0 | J17: 7 settimana | L17: hh/bamb | M17: =$K$8*K17 -> 0 | N17: 7 settimana | P17: hh/bamb | Q17: =$O$8*O17 -> 0 | R17: 7 settimana | T17: hh/bamb | U17: =$S$8*S17 -> 0
C18: 8 settimana | E18: numero ore/bambino | F18: =M18+Q18+U18 -> 0 | J18: 8 settimana | L18: hh/bamb | M18: =$K$8*K18 -> 0 | N18: 8 settimana | P18: hh/bamb | Q18: =$O$8*O18 -> 0 | R18: 8 settimana | T18: hh/bamb | U18: =$S$8*S18 -> 0
C19: 9 settimana | E19: numero ore/bambino | F19: =M19+Q19+U19 -> 0 | J19: 9 settimana | L19: hh/bamb | M19: =$K$8*K19 -> 0 | N19: 9 settimana | P19: hh/bamb | Q19: =$O$8*O19 -> 0 | R19: 9 settimana | T19: hh/bamb | U19: =$S$8*S19 -> 0
C20: 10 settimana | E20: numero ore/bambino | F20: =M20+Q20+U20 -> 0 | J20: 10 settimana | L20: hh/bamb | M20: =$K$8*K20 -> 0 | N20: 10 settimana | P20: hh/bamb | Q20: =$O$8*O20 -> 0 | R20: 10 settimana | T20: hh/bamb | U20: =$S$8*S20 -> 0
C21: 11 settimana | E21: numero ore/bambino | F21: =M21+Q21+U21 -> 0 | J21: 11 settimana | L21: hh/bamb | M21: =$K$8*K21 -> 0 | N21: 11 settimana | P21: hh/bamb | Q21: =$O$8*O21 -> 0 | R21: 11 settimana | T21: hh/bamb | U21: =$S$8*S21 -> 0
C22: 12 settimana | E22: numero ore/bambino | F22: =M22+Q22+U22 -> 0 | J22: 12 settimana | L22: hh/bamb | M22: =$K$8*K22 -> 0 | N22: 12 settimana | P22: hh/bamb | Q22: =$O$8*O22 -> 0 | R22: 12 settimana | T22: hh/bamb | U22: =$S$8*S22 -> 0
C23: 13 settimana | E23: numero ore/bambino | F23: =M23+Q23+U23 -> 0 | J23: 13 settimana | L23: hh/bamb | M23: =$K$8*K23 -> 0 | N23: 13 settimana | P23: hh/bamb | Q23: =$O$8*O23 -> 0 | R23: 13 settimana | T23: hh/bamb | U23: =$S$8*S23 -> 0
E24: TOT numero ore/bambino | F24: =SUM(F11:F23) -> 0 | H24: =CONCATENATE(D2," ",E24) -> TOT numero ore/bambino | I24: =F24 -> 0 | L24: TOT hh/bamb | M24: =SUM(M11:M23) -> 0 | P24: TOT hh/bamb | Q24: =SUM(Q11:Q23) -> 0 | T24: TOT hh/bamb | U24: =SUM(U11:U23) -> 0
H26: =CONCATENATE(D2," ",C26) | I26: =D26 -> 0
C27: ENTE: | F27: assoc 2
C28: Fascia di età accolta:
C31: ore giornaliere | E31: menù a tendina
C32: giorni a settimana | E32: menù a tendina
C33: TOT monte ore settimanale | D33: =D31*D32 -> 0
C35: numero bambini accolti
C36: 1 settimana | E36: numero ore/bambino | F36: =$D$33*D36 -> 0
C37: 2 settimana | E37: numero ore/bambino | F37: =$D$33*D37 -> 0
C38: 3 settimana | E38: numero ore/bambino | F38: =$D$33*D38 -> 0
C39: 4 settimana | E39: numero ore/bambino | F39: =$D$33*D39 -> 0
C40: 5 settimana | E40: numero ore/bambino | F40: =$D$33*D40 -> 0
C41: 6 settimana | E41: numero ore/bambino | F41: =$D$33*D41 -> 0
C42: 7 settimana | E42: numero ore/bambino | F42: =$D$33*D42 -> 0
C43: 8 settimana | E43: numero ore/bambino | F43: =$D$33*D43 -> 0
C44: 9 settimana | E44: numero ore/bambino | F44: =$D$33*D44 -> 0
C45: 10 settimana | E45: numero ore/bambino | F45: =$D$33*D45 -> 0
C46: 11 settimana | E46: numero ore/bambino | F46: =$D$33*D46 -> 0
C47: 12 settimana | E47: numero ore/bambino | F47: =$D$33*D47 -> 0
C48: 13 settimana | E48: numero ore/bambino | F48: =$D$33*D48 -> 0
E49: TOT numero ore/bambino | F49: =SUM(F36:F48) -> 0 | H49: =CONCATENATE(D27," ",E49) -> TOT numero ore/bambino | I49: =F49 -> 0
H51: =CONCATENATE(D27," ",C51) | I51: =D51 -> 0
C52: ENTE: | F52: assoc 3
C53: Fascia di età accolta:
C56: ore giornaliere | E56: menù a tendina
C57: giorni a settimana | E57: menù a tendina
C58: TOT monte ore settimanale | D58: =D56*D57 -> 0
C60: numero bambini accolti
C61: 1 settimana | E61: numero ore/bambino | F61: =$D$58*D61 -> 0
C62: 2 settimana | E62: numero ore/bambino | F62: =$D$58*D62 -> 0
C63: 3 settimana | E63: numero ore/bambino | F63: =$D$58*D63 -> 0
C64: 4 settimana | E64: numero ore/bambino | F64: =$D$58*D64 -> 0
C65: 5 settimana | E65: numero ore/bambino | F65: =$D$58*D65 -> 0
C66: 6 settimana | E66: numero ore/bambino | F66: =$D$58*D66 -> 0
C67: 7 settimana | E67: numero ore/bambino | F67: =$D$58*D67 -> 0
C68: 8 settimana | E68: numero ore/bambino | F68: =$D$58*D68 -> 0
C69: 9 settimana | E69: numero ore/bambino | F69: =$D$58*D69 -> 0
C70: 10 settimana | E70: numero ore/bambino | F70: =$D$58*D70 -> 0
C71: 11 settimana | E71: numero ore/bambino | F71: =$D$58*D71 -> 0
C72: 12 settimana | E72: numero ore/bambino | F72: =$D$58*D72 -> 0
C73: 13 settimana | E73: numero ore/bambino | F73: =$D$58*D73 -> 0
E74: TOT numero ore/bambino | F74: =SUM(F61:F73) -> 0 | H74: =CONCATENATE(D52," ",E74) -> TOT numero ore/bambino | I74: =F74 -> 0
H76: =CONCATENATE(D52," ",C76) | I76: =D76 -> 0
C77: ENTE: | F77: assoc 4
C78: Fascia di età accolta:
C81: ore giornaliere | E81: menù a tendina
C82: giorni a settimana | E82: menù a tendina
C83: TOT monte ore settimanale | D83: =D81*D82 -> 0
C85: numero bambini accolti
C86: 1 settimana | E86: numero ore/bambino | F86: =$D$83*D86 -> 0
C87: 2 settimana | E87: numero ore/bambino | F87: =$D$83*D87 -> 0
C88: 3 settimana | E88: numero ore/bambino | F88: =$D$83*D88 -> 0
C89: 4 settimana | E89: numero ore/bambino | F89: =$D$83*D89 -> 0
C90: 5 settimana | E90: numero ore/bambino | F90: =$D$83*D90 -> 0
C91: 6 settimana | E91: numero ore/bambino | F91: =$D$83*D91 -> 0
C92: 7 settimana | E92: numero ore/bambino | F92: =$D$83*D92 -> 0
C93: 8 settimana | E93: numero ore/bambino | F93: =$D$83*D93 -> 0
C94: 9 settimana | E94: numero ore/bambino | F94: =$D$83*D94 -> 0
C95: 10 settimana | E95: numero ore/bambino | F95: =$D$83*D95 -> 0
C96: 11 settimana | E96: numero ore/bambino | F96: =$D$83*D96 -> 0
C97: 12 settimana | E97: numero ore/bambino | F97: =$D$83*D97 -> 0
C98: 13 settimana | E98: numero ore/bambino | F98: =$D$83*D98 -> 0
E99: TOT numero ore/bambino | F99: =SUM(F86:F98) -> 0 | H99: =CONCATENATE(D77," ",E99) -> TOT numero ore/bambino | I99: =F99 -> 0
H101: =CONCATENATE(D77," ",C101) | I101: =D101 -> 0

Sheet riepilogo
H2: ASSOCIAZIONE | I2: TOT numero ore/bambino | J2: % ore/bambino | K2: Risorse assegnate
C3: 1 | D3: 1 | E3: 5 | H3: =rendicontazione!$D$2 -> 0 | I3: =rendicontazione!F24 -> 0 | J3: =I3/$I$7 -> #DIV/0! | K3: =$I$8*J3 -> #DIV/0!
C4: 2 | D4: 2 | E4: 7 | H4: =rendicontazione!$D$27 -> 0 | I4: =rendicontazione!F49 -> 0 | J4: =I4/$I$7 -> #DIV/0! | K4: =$I$8*J4 -> #DIV/0!
C5: 3 | D5: 3 | E5: 10 | H5: =rendicontazione!$D$52 -> 0 | I5: =rendicontazione!F74 -> 0 | J5: =I5/$I$7 -> #DIV/0! | K5: =$I$8*J5 -> #DIV/0!
C6: 4 | D6: 4 | H6: =rendicontazione!$D$77 -> 0 | I6: =rendicontazione!F99 -> 0 | J6: =I6/$I$7 -> #DIV/0! | K6: =$I$8*J6 -> #DIV/0!
C7: 5 | D7: 5 | H7: TOTALE | I7: =SUM(I3:I6) -> 0 | J7: =SUM(J3:J6) -> #DIV/0! | K7: =SUM(K3:K6) -> #DIV/0!
C8: 6 | D8: 6 | H8: RISORSE
C9: 7 | D9: 7
C10: 8
C11: 9
C12: 10
C13: 11
C14: 12
C15: 13
C16: 14
C17: 15
C18: 16
C19: 17
C20: 18
C21: 19
... C26: 24
